BEGIN:VCALENDAR
VERSION:2.0
PRODID:-//Canterbury Fly Fishing Club - ECPv4.6.8//NONSGML v1.0//EN
CALSCALE:GREGORIAN
METHOD:PUBLISH
X-WR-CALNAME:Canterbury Fly Fishing Club
X-ORIGINAL-URL:http://www.canterburyflyfishingclub.co.nz
X-WR-CALDESC:Events for Canterbury Fly Fishing Club
BEGIN:VEVENT
DTSTART;TZID=Pacific/Auckland:20180120T080000
DTEND;TZID=Pacific/Auckland:20180120T170000
DTSTAMP:20180121T160054
CREATED:20171230T030206Z
LAST-MODIFIED:20171230T030206Z
UID:886-1516435200-1516467600@www.canterburyflyfishingclub.co.nz
SUMMARY:Test event
DESCRIPTION:
URL:http://www.canterburyflyfishingclub.co.nz/?tribe_events=test-event
LOCATION:18 Hussey Road\, Christchurch\, Canterbury\, 8015\, New Zealand
END:VEVENT
BEGIN:VEVENT
DTSTART;TZID=Pacific/Auckland:20180130T193000
DTEND;TZID=Pacific/Auckland:20180130T213000
DTSTAMP:20180121T160054
CREATED:20180105T035832Z
LAST-MODIFIED:20180105T035832Z
UID:890-1517340600-1517347800@www.canterburyflyfishingclub.co.nz
SUMMARY:February Club Meeting
DESCRIPTION:To avoid a conflict with Waitangi Day the club night has been moved forward to 30th January \n
URL:http://www.canterburyflyfishingclub.co.nz/?tribe_events=february-club-meeting
END:VEVENT
END:VCALENDAR